BEGIN:VCALENDAR
VERSION:2.0
PRODID:-//Amu Arts - ECPv6.15.20//NONSGML v1.0//EN
CALSCALE:GREGORIAN
METHOD:PUBLISH
X-WR-CALNAME:Amu Arts
X-ORIGINAL-URL:https://amu-arts.org
X-WR-CALDESC:Events for Amu Arts
REFRESH-INTERVAL;VALUE=DURATION:PT1H
X-Robots-Tag:noindex
X-PUBLISHED-TTL:PT1H
BEGIN:VTIMEZONE
TZID:America/Los_Angeles
BEGIN:DAYLIGHT
TZOFFSETFROM:-0800
TZOFFSETTO:-0700
TZNAME:PDT
DTSTART:20230312T100000
END:DAYLIGHT
BEGIN:STANDARD
TZOFFSETFROM:-0700
TZOFFSETTO:-0800
TZNAME:PST
DTSTART:20231105T090000
END:STANDARD
BEGIN:DAYLIGHT
TZOFFSETFROM:-0800
TZOFFSETTO:-0700
TZNAME:PDT
DTSTART:20240310T100000
END:DAYLIGHT
BEGIN:STANDARD
TZOFFSETFROM:-0700
TZOFFSETTO:-0800
TZNAME:PST
DTSTART:20241103T090000
END:STANDARD
BEGIN:DAYLIGHT
TZOFFSETFROM:-0800
TZOFFSETTO:-0700
TZNAME:PDT
DTSTART:20250309T100000
END:DAYLIGHT
BEGIN:STANDARD
TZOFFSETFROM:-0700
TZOFFSETTO:-0800
TZNAME:PST
DTSTART:20251102T090000
END:STANDARD
END:VTIMEZONE
BEGIN:VEVENT
DTSTART;TZID=America/Los_Angeles:20240610T100000
DTEND;TZID=America/Los_Angeles:20240614T150000
DTSTAMP:20260423T155957
CREATED:20240525T075306Z
LAST-MODIFIED:20240525T134818Z
UID:2333-1718013600-1718377200@amu-arts.org
SUMMARY:Japanese Summer Camp 6/10/23 ~ 6/14/23 - FULL
DESCRIPTION:Time: 10:00 AM – 3:00 PM\nInstructor: Tsuyo Onodera & Maki Aizawa\nLocation: the Sonoma Community Center \nThis is a truly unique camp.  Local Sonoma artist Maki Aizawa and her mother Tsuyo Onodera\, traveling from Japan\, will guide students through craft projects that are deeply rooted in Japanese culture. With an overarching theme of sustainability they will learn how to artfully mend clothing and fiber projects through a technique called Nuitsugi. \n    \n                    \n                            \n                    \n                            \n                    \n                            \n                    \n                            \n            \n\nThey will also work in the ceramics department\, working with a modern version of Kintsugi\, where broken ceramics are put back together using a mixture of gold powder and lacquer. Both of these techniques highlight the flaw and turn something broken into something beautiful. They will also learn the process of Yobitsugi\, one of the most artistic Kintsugi techniques. “Yobi” means to call and “tsugi” means to connect. Rather than only using pieces from the original ceramic object\, Yobitsugi incorporates “foreign” pieces from other objects to mend the broken ceramic item. There will also be culinary lessons on Japanese food\, specifically lessons on making sushi\, ramen & gyoza\, and udon making. The campers will also learn mochitsuki pounding in the camp and make authentic mochi! \nSign up directly from the Sonoma Community Center link.
URL:https://amu-arts.org/event/japanese-summer-camp-6-10-23-6-14-23-full/
LOCATION:Sonoma Community Center\, 276 East Napa Street\, Sonoma\, CA\, CA\, 95476\, United States
CATEGORIES:Kintsugi,Nuitsugi
ATTACH;FMTTYPE=image/jpeg:https://amu-arts.org/wp-content/uploads/2024/05/IMG_8539-scaled.jpeg
END:VEVENT
BEGIN:VEVENT
DTSTART;TZID=America/Los_Angeles:20240602T123000
DTEND;TZID=America/Los_Angeles:20240602T143000
DTSTAMP:20260423T155957
CREATED:20240525T064315Z
LAST-MODIFIED:20240525T080246Z
UID:2326-1717331400-1717338600@amu-arts.org
SUMMARY:Nuitsugi Workshop in St. Helena 6/2/24 - FULL
DESCRIPTION:In this “Nuitsugi” class\, students will explore various traditional mending techniques used in the kimono-making process. The sewing techniques are very functional and practical yet can be applied to delicate fabrics such as silk\, fine thin cotton\, and linen. Be sure to bring an item of clothing or a cotton tote bag to practice these techniques on. “Nui” means to sew\, and “tsugi” means to connect. Let’s create something beautiful together! All levels are welcome. Maki will provide special and beautiful Japanese patching fabric. Please bring an item of clothing or cotton tote bag to mend. \n    \n                    \n                            \n                    \n                            \n                    \n                            \n            \n\n\nPlease register through the Nimbus Arts.  Please contact Kiera Louttit for any questions for signing up at this venue.
URL:https://amu-arts.org/event/nuitsugi-workshop-the-art-of-japanese-mending/
LOCATION:Nimbus Arts\, 649 Main St St.\, St. Helena\, 94574\, United States
CATEGORIES:Kimono Making,Nuitsugi
ATTACH;FMTTYPE=image/jpeg:https://amu-arts.org/wp-content/uploads/2022/12/IMG_8388-scaled.jpeg
END:VEVENT
END:VCALENDAR