BEGIN:VCALENDAR
VERSION:2.0
PRODID:-//Amu Arts - ECPv6.15.20//NONSGML v1.0//EN
CALSCALE:GREGORIAN
METHOD:PUBLISH
X-ORIGINAL-URL:https://amu-arts.org
X-WR-CALDESC:Events for Amu Arts
REFRESH-INTERVAL;VALUE=DURATION:PT1H
X-Robots-Tag:noindex
X-PUBLISHED-TTL:PT1H
BEGIN:VTIMEZONE
TZID:America/Los_Angeles
BEGIN:DAYLIGHT
TZOFFSETFROM:-0800
TZOFFSETTO:-0700
TZNAME:PDT
DTSTART:20180311T100000
END:DAYLIGHT
BEGIN:STANDARD
TZOFFSETFROM:-0700
TZOFFSETTO:-0800
TZNAME:PST
DTSTART:20181104T090000
END:STANDARD
BEGIN:DAYLIGHT
TZOFFSETFROM:-0800
TZOFFSETTO:-0700
TZNAME:PDT
DTSTART:20190310T100000
END:DAYLIGHT
BEGIN:STANDARD
TZOFFSETFROM:-0700
TZOFFSETTO:-0800
TZNAME:PST
DTSTART:20191103T090000
END:STANDARD
BEGIN:DAYLIGHT
TZOFFSETFROM:-0800
TZOFFSETTO:-0700
TZNAME:PDT
DTSTART:20200308T100000
END:DAYLIGHT
BEGIN:STANDARD
TZOFFSETFROM:-0700
TZOFFSETTO:-0800
TZNAME:PST
DTSTART:20201101T090000
END:STANDARD
END:VTIMEZONE
BEGIN:VEVENT
DTSTART;VALUE=DATE:20191204
DTEND;VALUE=DATE:20191211
DTSTAMP:20260423T125050
CREATED:20200117T110449Z
LAST-MODIFIED:20200120T092435Z
UID:696-1575417600-1576022399@amu-arts.org
SUMMARY:Yobitsubi (Kintsugi)
DESCRIPTION:Tokyo artist Tamomi Kamoshita will return later this year to teach the modern techniques of Kintsugi. Kintsugi\, “Golden Joinery\,” is the traditional Japanese art of repairing broken pottery. \nKamoshita will introduce Yobitsugi\, one of the most artistic Kintsugi techniques. “Yobi” means to call and “tsugi” means to connect. Rather than only using pieces from the original ceramic object\, Yobitsugi incorporates “foreign” pieces from other objects to mend the broken ceramic item. \nElaine Yuen\, PhD\n\nIn collaboration with the Yobitsugi (Kintsugi) workshop\, Elaine Yuen\, Associate Professor of Religious Studies at Naropa University in Boulder\, Colorado\, will speak on art\, perception\, and creativity. By noticing our direct sense perceptions such as touch and sight\, we will explore our choices in recreating a whole piece from brokenness. There will also be opportunity to reflect on and appreciate the meanings of this recreation. \nPlease check our schedule for the multiple courses of the workshops and lectures in Sonoma\, San Francisco and Boulder\, Colorado.
URL:https://amu-arts.org/event/yobitsubi-kintsugi/
CATEGORIES:Kintsugi
END:VEVENT
END:VCALENDAR